BEGIN:VCALENDAR
VERSION:2.0
PRODID:https://dbknb.de/
X-PUBLISHED-TTL:P1W
BEGIN:VEVENT
UID:69e69759e1130
DTSTART:20231214T140000Z
SEQUENCE:0
TRANSP:OPAQUE
DTEND:20231214T163000Z
SUMMARY:Tumorschmerz
CLASS:PUBLIC
DTSTAMP:20260420T211505Z
END:VEVENT
END:VCALENDAR