BEGIN:VCALENDAR
VERSION:2.0
PRODID:https://dbknb.de/
X-PUBLISHED-TTL:P1W
BEGIN:VEVENT
UID:69e608a655b00
DTSTART:20240612T153000Z
SEQUENCE:0
TRANSP:OPAQUE
DTEND:20240612T173000Z
SUMMARY:Lungenkarzinom - Aktuelle interdisziplinäre Behandlungsstrategien
CLASS:PUBLIC
DTSTAMP:20260420T110614Z
END:VEVENT
END:VCALENDAR