BEGIN:VCALENDAR
VERSION:2.0
PRODID:https://dbknb.de/
X-PUBLISHED-TTL:P1W
BEGIN:VEVENT
UID:69e5dd3d8071f
DTSTART:20240821T153000Z
SEQUENCE:0
TRANSP:OPAQUE
DTEND:20240821T183000Z
SUMMARY:Lungenmetastasen – Aktuelle interdisziplinäre Behandlungsstrateg
 ien
CLASS:PUBLIC
DTSTAMP:20260420T080101Z
END:VEVENT
END:VCALENDAR