BEGIN:VCALENDAR
VERSION:2.0
PRODID:https://dbknb.de/
X-PUBLISHED-TTL:P1W
BEGIN:VEVENT
UID:69eccd02290da
DTSTART:20260603T063000Z
SEQUENCE:0
TRANSP:OPAQUE
DTEND:20260603T140000Z
SUMMARY:Jahrespflicht-FB für hygienebeauftr. Ärzte
CLASS:PUBLIC
DTSTAMP:20260425T141738Z
END:VEVENT
END:VCALENDAR