BEGIN:VCALENDAR
VERSION:2.0
PRODID:https://dbknb.de/
X-PUBLISHED-TTL:P1W
BEGIN:VEVENT
UID:69e5ec81dfe44
DTSTART:20260203T073000Z
SEQUENCE:0
TRANSP:OPAQUE
DTEND:20260203T143000Z
SUMMARY:PA: Mit emotionaler Intelligenz empathisch…
CLASS:PUBLIC
DTSTAMP:20260420T090609Z
END:VEVENT
END:VCALENDAR