BEGIN:VCALENDAR
VERSION:2.0
PRODID:https://dbknb.de/
X-PUBLISHED-TTL:P1W
BEGIN:VEVENT
UID:69eba69415078
DTSTART:20260427T063000Z
SEQUENCE:0
TRANSP:OPAQUE
DTEND:20260427T133000Z
SUMMARY:Sucht und Abhängigkeit
CLASS:PUBLIC
DTSTAMP:20260424T172124Z
END:VEVENT
END:VCALENDAR