BEGIN:VCALENDAR
VERSION:2.0
PRODID:https://dbknb.de/
X-PUBLISHED-TTL:P1W
BEGIN:VEVENT
UID:69eba62e06bef
DTSTART:20260428T063000Z
SEQUENCE:0
TRANSP:OPAQUE
DTEND:20260428T140000Z
SUMMARY:Umgang mit dem Tod in Ber. ohne Palliative Care
CLASS:PUBLIC
DTSTAMP:20260424T171942Z
END:VEVENT
END:VCALENDAR