BEGIN:VCALENDAR
VERSION:2.0
PRODID:https://dbknb.de/
X-PUBLISHED-TTL:P1W
BEGIN:VEVENT
UID:69eba62e06bee
DTSTART:20260430T063000Z
SEQUENCE:0
TRANSP:OPAQUE
DTEND:20260430T140000Z
SUMMARY:Jahrespflicht-FB Hygienebeauftragte i. d. Pflege
CLASS:PUBLIC
DTSTAMP:20260424T171942Z
END:VEVENT
END:VCALENDAR