BEGIN:VCALENDAR
VERSION:2.0
PRODID:https://dbknb.de/
X-PUBLISHED-TTL:P1W
BEGIN:VEVENT
UID:69e5b7ac8bcf9
DTSTART:20260512T063000Z
SEQUENCE:0
TRANSP:OPAQUE
DTEND:20260512T133000Z
SUMMARY:SELBSTZAHLER!!! - Lebensstil zuckerfrei…
CLASS:PUBLIC
DTSTAMP:20260420T052044Z
END:VEVENT
END:VCALENDAR