BEGIN:VCALENDAR
VERSION:2.0
PRODID:https://dbknb.de/
X-PUBLISHED-TTL:P1W
BEGIN:VEVENT
UID:69e5b933ad6cb
DTSTART:20260513T063000Z
SEQUENCE:0
TRANSP:OPAQUE
DTEND:20260513T133000Z
SUMMARY:Schmerzfrei pflegen: Innovative Strategien…
CLASS:PUBLIC
DTSTAMP:20260420T052715Z
END:VEVENT
END:VCALENDAR