BEGIN:VCALENDAR
VERSION:2.0
PRODID:https://dbknb.de/
X-PUBLISHED-TTL:P1W
BEGIN:VEVENT
UID:69e5b8f227e79
DTSTART:20260519T063000Z
SEQUENCE:0
TRANSP:OPAQUE
DTEND:20260519T133000Z
SUMMARY:MALCHIN! - Fit für den Notfall
CLASS:PUBLIC
DTSTAMP:20260420T052610Z
END:VEVENT
END:VCALENDAR