BEGIN:VCALENDAR
VERSION:2.0
PRODID:https://dbknb.de/
X-PUBLISHED-TTL:P1W
BEGIN:VEVENT
UID:69ecb655cfa65
DTSTART:20260528T063000Z
SEQUENCE:0
TRANSP:OPAQUE
DTEND:20260528T133000Z
SUMMARY:Führungsverhalten an Typen und Stärken ausrichten
CLASS:PUBLIC
DTSTAMP:20260425T124053Z
END:VEVENT
END:VCALENDAR