BEGIN:VCALENDAR
VERSION:2.0
PRODID:https://dbknb.de/
X-PUBLISHED-TTL:P1W
BEGIN:VEVENT
UID:69eccc8a99253
DTSTART:20260603T063000Z
SEQUENCE:0
TRANSP:OPAQUE
DTEND:20260603T133000Z
SUMMARY:Sterbehilfe: Die rechtlichen Regelungen
CLASS:PUBLIC
DTSTAMP:20260425T141538Z
END:VEVENT
END:VCALENDAR