BEGIN:VCALENDAR
VERSION:2.0
PRODID:https://dbknb.de/
X-PUBLISHED-TTL:P1W
BEGIN:VEVENT
UID:69eccc74a0870
DTSTART:20260605T063000Z
SEQUENCE:0
TRANSP:OPAQUE
DTEND:20260605T133000Z
SUMMARY:Wenn Sekunden zählen und Gesetze greifen…
CLASS:PUBLIC
DTSTAMP:20260425T141516Z
END:VEVENT
END:VCALENDAR