BEGIN:VCALENDAR
VERSION:2.0
PRODID:https://dbknb.de/
X-PUBLISHED-TTL:P1W
BEGIN:VEVENT
UID:69eccd42033d2
DTSTART:20260609T113000Z
SEQUENCE:0
TRANSP:OPAQUE
DTEND:20260609T130000Z
SUMMARY:Datenschutz und Informationssicherheit im KH
CLASS:PUBLIC
DTSTAMP:20260425T141842Z
END:VEVENT
END:VCALENDAR