BEGIN:VCALENDAR
VERSION:2.0
PRODID:https://dbknb.de/
X-PUBLISHED-TTL:P1W
BEGIN:VEVENT
UID:69ece1538ef11
DTSTART:20260623T063000Z
SEQUENCE:0
TRANSP:OPAQUE
DTEND:20260623T133000Z
SUMMARY:SELBSTZAHLER!!! Klangschalen bei Demenz
CLASS:PUBLIC
DTSTAMP:20260425T154419Z
END:VEVENT
END:VCALENDAR