BEGIN:VCALENDAR
VERSION:2.0
PRODID:https://dbknb.de/
X-PUBLISHED-TTL:P1W
BEGIN:VEVENT
UID:69eaf5fb07eed
DTSTART:20260910T063000Z
SEQUENCE:0
TRANSP:OPAQUE
DTEND:20260910T133000Z
SUMMARY:Zeitstress\, Rolle\, Leistungsdruck…
CLASS:PUBLIC
DTSTAMP:20260424T044755Z
END:VEVENT
END:VCALENDAR