BEGIN:VCALENDAR
VERSION:2.0
PRODID:https://dbknb.de/
X-PUBLISHED-TTL:P1W
BEGIN:VEVENT
UID:69e9cb054f32f
DTSTART:20260916T063000Z
SEQUENCE:0
TRANSP:OPAQUE
DTEND:20260916T133000Z
SUMMARY:SELBSTZAHLER! Den eigenen Bedürfnissen Raum geben…
CLASS:PUBLIC
DTSTAMP:20260423T073221Z
END:VEVENT
END:VCALENDAR