BEGIN:VCALENDAR
VERSION:2.0
PRODID:https://dbknb.de/
X-PUBLISHED-TTL:P1W
BEGIN:VEVENT
UID:69eaa0c9e8745
DTSTART:20261007T063000Z
SEQUENCE:0
TRANSP:OPAQUE
DTEND:20261007T133000Z
SUMMARY:Der Hormonhaushalt im Fokus…
CLASS:PUBLIC
DTSTAMP:20260423T224425Z
END:VEVENT
END:VCALENDAR