BEGIN:VCALENDAR
VERSION:2.0
PRODID:https://dbknb.de/
X-PUBLISHED-TTL:P1W
BEGIN:VEVENT
UID:69e60e0680927
DTSTART:20261013T063000Z
SEQUENCE:0
TRANSP:OPAQUE
DTEND:20261013T133000Z
SUMMARY:PSY: Diagnostik\, Therapie\, Psychopharmakologie
CLASS:PUBLIC
DTSTAMP:20260420T112910Z
END:VEVENT
END:VCALENDAR