BEGIN:VCALENDAR
VERSION:2.0
PRODID:https://dbknb.de/
X-PUBLISHED-TTL:P1W
BEGIN:VEVENT
UID:69e60cf903190
DTSTART:20261013T070000Z
SEQUENCE:0
TRANSP:OPAQUE
DTEND:20261013T140000Z
SUMMARY:Digitale Medien und KI in der Praxisanleitung
CLASS:PUBLIC
DTSTAMP:20260420T112441Z
END:VEVENT
END:VCALENDAR