BEGIN:VCALENDAR
VERSION:2.0
PRODID:https://dbknb.de/
X-PUBLISHED-TTL:P1W
BEGIN:VEVENT
UID:69e60da129938
DTSTART:20261015T063000Z
SEQUENCE:0
TRANSP:OPAQUE
DTEND:20261015T133000Z
SUMMARY:Wahn\, Schizophrenien\, Manie\, …
CLASS:PUBLIC
DTSTAMP:20260420T112729Z
END:VEVENT
END:VCALENDAR