BEGIN:VCALENDAR
VERSION:2.0
PRODID:https://dbknb.de/
X-PUBLISHED-TTL:P1W
BEGIN:VEVENT
UID:69e9a7da1f415
DTSTART:20261103T073000Z
SEQUENCE:0
TRANSP:OPAQUE
DTEND:20261103T143000Z
SUMMARY:Lernprobleme und Entwicklungsstörungen bei Azubis
CLASS:PUBLIC
DTSTAMP:20260423T050218Z
END:VEVENT
END:VCALENDAR