BEGIN:VCALENDAR
VERSION:2.0
PRODID:https://dbknb.de/
X-PUBLISHED-TTL:P1W
BEGIN:VEVENT
UID:69e564f3bd7ba
DTSTART:20261109T073000Z
SEQUENCE:0
TRANSP:OPAQUE
DTEND:20261110T143000Z
SUMMARY:Onkologische Pflege…
CLASS:PUBLIC
DTSTAMP:20260419T232747Z
END:VEVENT
END:VCALENDAR