BEGIN:VCALENDAR
VERSION:2.0
PRODID:https://dbknb.de/
X-PUBLISHED-TTL:P1W
BEGIN:VEVENT
UID:69e564ba038cd
DTSTART:20261110T073000Z
SEQUENCE:0
TRANSP:OPAQUE
DTEND:20261110T150000Z
SUMMARY:RückenFit - Verspannungen lösen…
CLASS:PUBLIC
DTSTAMP:20260419T232650Z
END:VEVENT
END:VCALENDAR