BEGIN:VCALENDAR
VERSION:2.0
PRODID:https://dbknb.de/
X-PUBLISHED-TTL:P1W
BEGIN:VEVENT
UID:69ecccdebb3b6
DTSTART:20260622T113000Z
SEQUENCE:0
TRANSP:OPAQUE
DTEND:20260622T123000Z
SUMMARY:Wichtiges rund um Transfusionen für Pflegekräfte
CLASS:PUBLIC
DTSTAMP:20260425T141702Z
END:VEVENT
END:VCALENDAR