BEGIN:VCALENDAR
VERSION:2.0
PRODID:https://dbknb.de/
X-PUBLISHED-TTL:P1W
BEGIN:VEVENT
UID:69e9a81281a54
DTSTART:20261026T073000Z
SEQUENCE:0
TRANSP:OPAQUE
DTEND:20261026T143000Z
SUMMARY:Professionell bleiben\, wenn es… - ZUSATZTERMIN!
CLASS:PUBLIC
DTSTAMP:20260423T050314Z
END:VEVENT
END:VCALENDAR