BEGIN:VCALENDAR
VERSION:2.0
PRODID:https://dbknb.de/
X-PUBLISHED-TTL:P1W
BEGIN:VEVENT
UID:69e84474b67a4
DTSTART:20220502T160000Z
SEQUENCE:0
TRANSP:OPAQUE
DTEND:20220502T173000Z
SUMMARY:Gesundheitsforum ONLINE: \"Stammzelle als Lebensretter\"
CLASS:PUBLIC
DTSTAMP:20260422T034556Z
END:VEVENT
END:VCALENDAR