BEGIN:VCALENDAR
VERSION:2.0
PRODID:https://dbknb.de/
X-PUBLISHED-TTL:P1W
BEGIN:VEVENT
UID:69e82e899a902
DTSTART:20220613T150000Z
SEQUENCE:0
TRANSP:OPAQUE
DTEND:20220613T163000Z
SUMMARY:Gesundheitsforum \"Trockene AMD - Neue Therapien gegen Blindheit im
  Alter\"
CLASS:PUBLIC
DTSTAMP:20260422T021225Z
END:VEVENT
END:VCALENDAR