BEGIN:VCALENDAR
VERSION:2.0
PRODID:https://dbknb.de/
X-PUBLISHED-TTL:P1W
BEGIN:VEVENT
UID:69e7b87aa6b7c
DTSTART:20221121T160000Z
SEQUENCE:0
TRANSP:OPAQUE
DTEND:20221121T173000Z
SUMMARY:Schmerztherapie bei krebskranken Patienten
CLASS:PUBLIC
DTSTAMP:20260421T174842Z
END:VEVENT
END:VCALENDAR