BEGIN:VCALENDAR
VERSION:2.0
PRODID:https://dbknb.de/
X-PUBLISHED-TTL:P1W
BEGIN:VEVENT
UID:69e7b98068f43
DTSTART:20221116T160000Z
SEQUENCE:0
TRANSP:OPAQUE
DTEND:20221116T180000Z
SUMMARY:\"Einmal Frühchen - immer Frühchen?\"
CLASS:PUBLIC
DTSTAMP:20260421T175304Z
END:VEVENT
END:VCALENDAR