BEGIN:VCALENDAR
VERSION:2.0
PRODID:https://dbknb.de/
X-PUBLISHED-TTL:P1W
BEGIN:VEVENT
UID:69e7b928da13c
DTSTART:20221122T170000Z
SEQUENCE:0
TRANSP:OPAQUE
DTEND:20221122T190000Z
SUMMARY:Vorhofflimmern: Turbulenzen im Herzen
CLASS:PUBLIC
DTSTAMP:20260421T175136Z
END:VEVENT
END:VCALENDAR