BEGIN:VCALENDAR
VERSION:2.0
PRODID:https://dbknb.de/
X-PUBLISHED-TTL:P1W
BEGIN:VEVENT
UID:69e75d7f36892
DTSTART:20230327T150000Z
SEQUENCE:0
TRANSP:OPAQUE
DTEND:20230327T163000Z
SUMMARY:Zahnimplantate: Was ist möglich und wann zahlt die Kasse?
CLASS:PUBLIC
DTSTAMP:20260421T112031Z
END:VEVENT
END:VCALENDAR