BEGIN:VCALENDAR
VERSION:2.0
PRODID:https://dbknb.de/
X-PUBLISHED-TTL:P1W
BEGIN:VEVENT
UID:69e7456c40249
DTSTART:20230419T120000Z
SEQUENCE:0
TRANSP:OPAQUE
DTEND:20230419T150000Z
SUMMARY:Patientenforum Brustkrebs
CLASS:PUBLIC
DTSTAMP:20260421T093748Z
END:VEVENT
END:VCALENDAR