BEGIN:VCALENDAR
VERSION:2.0
PRODID:https://dbknb.de/
X-PUBLISHED-TTL:P1W
BEGIN:VEVENT
UID:69e7304376ed7
DTSTART:20230512T080000Z
SEQUENCE:0
TRANSP:OPAQUE
DTEND:20230512T140000Z
SUMMARY:Pflegetag
CLASS:PUBLIC
DTSTAMP:20260421T080731Z
END:VEVENT
END:VCALENDAR