BEGIN:VCALENDAR
VERSION:2.0
PRODID:https://dbknb.de/
X-PUBLISHED-TTL:P1W
BEGIN:VEVENT
UID:69e7304307b9e
DTSTART:20230525T150000Z
SEQUENCE:0
TRANSP:OPAQUE
DTEND:20230525T170000Z
SUMMARY:Adipositas bei Kindern
CLASS:PUBLIC
DTSTAMP:20260421T080731Z
END:VEVENT
END:VCALENDAR