BEGIN:VCALENDAR
VERSION:2.0
PRODID:https://dbknb.de/
X-PUBLISHED-TTL:P1W
BEGIN:VEVENT
UID:69e746b662dcc
DTSTART:20230424T150000Z
SEQUENCE:0
TRANSP:OPAQUE
DTEND:20230424T163000Z
SUMMARY:Volkskrankheit Harnsteinleiden
CLASS:PUBLIC
DTSTAMP:20260421T094318Z
END:VEVENT
END:VCALENDAR