BEGIN:VCALENDAR
VERSION:2.0
PRODID:https://dbknb.de/
X-PUBLISHED-TTL:P1W
BEGIN:VEVENT
UID:69e730c87025a
DTSTART:20230522T140000Z
SEQUENCE:0
TRANSP:OPAQUE
DTEND:20230522T160000Z
SUMMARY:Schlaganfall-Aktionstag
CLASS:PUBLIC
DTSTAMP:20260421T080944Z
END:VEVENT
END:VCALENDAR