BEGIN:VCALENDAR
VERSION:2.0
PRODID:https://dbknb.de/
X-PUBLISHED-TTL:P1W
BEGIN:VEVENT
UID:69e71b7ad4e0c
DTSTART:20230619T150000Z
SEQUENCE:0
TRANSP:OPAQUE
DTEND:20230619T163000Z
SUMMARY:Krebs-Medikamente: Mit moderner Medizin gegen den Tumor
CLASS:PUBLIC
DTSTAMP:20260421T063850Z
END:VEVENT
END:VCALENDAR