BEGIN:VCALENDAR
VERSION:2.0
PRODID:https://dbknb.de/
X-PUBLISHED-TTL:P1W
BEGIN:VEVENT
UID:69e6f046591ce
DTSTART:20230828T150000Z
SEQUENCE:0
TRANSP:OPAQUE
DTEND:20230828T163000Z
SUMMARY:Alles Brille oder was? Fehlsichtigkeit bei Kindern und Jugendlichen
CLASS:PUBLIC
DTSTAMP:20260421T033430Z
END:VEVENT
END:VCALENDAR