BEGIN:VCALENDAR
VERSION:2.0
PRODID:https://dbknb.de/
X-PUBLISHED-TTL:P1W
BEGIN:VEVENT
UID:69e6de131a8fd
DTSTART:20230920T090000Z
SEQUENCE:0
TRANSP:OPAQUE
DTEND:20230920T100000Z
SUMMARY:Alarmstufe Rot - Krankenhäuser in Gefahr
CLASS:PUBLIC
DTSTAMP:20260421T021651Z
END:VEVENT
END:VCALENDAR