BEGIN:VCALENDAR
VERSION:2.0
PRODID:https://dbknb.de/
X-PUBLISHED-TTL:P1W
BEGIN:VEVENT
UID:69e6ddee7d67e
DTSTART:20230904T080000Z
SEQUENCE:0
TRANSP:OPAQUE
DTEND:20230904T130000Z
SUMMARY:Schlaganfall im Blick
CLASS:PUBLIC
DTSTAMP:20260421T021614Z
END:VEVENT
END:VCALENDAR