BEGIN:VCALENDAR
VERSION:2.0
PRODID:https://dbknb.de/
X-PUBLISHED-TTL:P1W
BEGIN:VEVENT
UID:69e6dc55d12a8
DTSTART:20230921T120000Z
SEQUENCE:0
TRANSP:OPAQUE
DTEND:20230921T150000Z
SUMMARY:30 Jahre Palliativversorgung am DBK
CLASS:PUBLIC
DTSTAMP:20260421T020925Z
END:VEVENT
END:VCALENDAR