BEGIN:VCALENDAR
VERSION:2.0
PRODID:https://dbknb.de/
X-PUBLISHED-TTL:P1W
BEGIN:VEVENT
UID:69e6de623d830
DTSTART:20230923T080000Z
SEQUENCE:0
TRANSP:OPAQUE
DTEND:20230923T140000Z
SUMMARY:Neues aus der Adipositas-Therapie
CLASS:PUBLIC
DTSTAMP:20260421T021810Z
END:VEVENT
END:VCALENDAR