BEGIN:VCALENDAR
VERSION:2.0
PRODID:https://dbknb.de/
X-PUBLISHED-TTL:P1W
BEGIN:VEVENT
UID:69e6c75deb8af
DTSTART:20231023T150000Z
SEQUENCE:0
TRANSP:OPAQUE
DTEND:20231023T163000Z
SUMMARY:Depressionen - Neue Ansätze in Diagnostik und Therapie
CLASS:PUBLIC
DTSTAMP:20260421T003957Z
END:VEVENT
END:VCALENDAR