BEGIN:VCALENDAR
VERSION:2.0
PRODID:https://dbknb.de/
X-PUBLISHED-TTL:P1W
BEGIN:VEVENT
UID:69e6b146ef399
DTSTART:20231120T160000Z
SEQUENCE:0
TRANSP:OPAQUE
DTEND:20231120T173000Z
SUMMARY:Tumorerkrankungen des oberen Verdauungstraktes
CLASS:PUBLIC
DTSTAMP:20260420T230542Z
END:VEVENT
END:VCALENDAR