BEGIN:VCALENDAR
VERSION:2.0
PRODID:https://dbknb.de/
X-PUBLISHED-TTL:P1W
BEGIN:VEVENT
UID:69e6b204c8b76
DTSTART:20231104T090000Z
SEQUENCE:0
TRANSP:OPAQUE
DTEND:20231104T130000Z
SUMMARY:Tag der offenen Tür in Malchin
CLASS:PUBLIC
DTSTAMP:20260420T230852Z
END:VEVENT
END:VCALENDAR