BEGIN:VCALENDAR
VERSION:2.0
PRODID:https://dbknb.de/
X-PUBLISHED-TTL:P1W
BEGIN:VEVENT
UID:69e6b031dabe8
DTSTART:20231123T160000Z
SEQUENCE:0
TRANSP:OPAQUE
DTEND:20231123T190000Z
SUMMARY:Gemeinsam gegen den plötzlichen Herztod
CLASS:PUBLIC
DTSTAMP:20260420T230105Z
END:VEVENT
END:VCALENDAR