BEGIN:VCALENDAR
VERSION:2.0
PRODID:https://dbknb.de/
X-PUBLISHED-TTL:P1W
BEGIN:VEVENT
UID:69e6809a9301e
DTSTART:20240122T160000Z
SEQUENCE:0
TRANSP:OPAQUE
DTEND:20240122T173000Z
SUMMARY:Cannabis & Co. bei Kindern und Jugendlichen
CLASS:PUBLIC
DTSTAMP:20260420T193802Z
END:VEVENT
END:VCALENDAR