BEGIN:VCALENDAR
VERSION:2.0
PRODID:https://dbknb.de/
X-PUBLISHED-TTL:P1W
BEGIN:VEVENT
UID:69e6811f08117
DTSTART:20240120T090000Z
SEQUENCE:0
TRANSP:OPAQUE
DTEND:20240120T130000Z
SUMMARY:Klinikum stellt Ausbildungsberufe vor
CLASS:PUBLIC
DTSTAMP:20260420T194015Z
END:VEVENT
END:VCALENDAR